BEGIN:VCALENDAR
VERSION:2.0
PRODID:-//hacksw/handcal//NONSGML v1.0//EN
CALSCALE:GREGORIAN
BEGIN:VEVENT
LOCATION:Архангельск
DESCRIPTION:В период с 31 июля - 1 августа 2025 года в городе Архангельск состоится III Форум &laquo\;Арктика - Регионы&raquo\;

Организатором форума выступает правительство Архангельской области.

В 2025 году центральной темой Форума станет развитие международного сотрудничества и укрепления связей между арктическими регионами\, а также стратегические вопросы федерального значения по развитию регионов Арктической зоны РФ.
DTSTART:20250731T070010Z
DTEND:20250801T150010Z
SUMMARY:III форум "Арктика - регионы"
URL;VALUE=URI:/events/50.html
DTSTAMP:20260419T232022Z
UID:69e539062130b
END:VEVENT
END:VCALENDAR