BEGIN:VCALENDAR
VERSION:2.0
PRODID:-//hacksw/handcal//NONSGML v1.0//EN
CALSCALE:GREGORIAN
BEGIN:VEVENT
LOCATION:Москва\, ЦВК «Экспоцентр»
DESCRIPTION:&nbsp\;С 29&nbsp\;октября по 1&nbsp\;ноября в Москве пройдет 30-я&nbsp\;Международная промышленная выставка &laquo\;Металл-Экспо&raquo\;. Юбилейный форум металлургов вырастет на 30% по сравнению с предыдущим годом\, привлечет порядка 1&nbsp\;тыс. компаний-экспонентов и свыше 30&nbsp\;тыс. посетителей из металлопотребляющих отраслей промышленности. Это позволит участникам рынка металлов представить новые продукты\, проекты и решения\, современное оборудование и технологии\, установить взаимовыгодные деловые связи с поставщиками и потребителями.


	В текущем году в выставке &laquo\;Металл-Экспо&raquo\; выразили желание участвовать ведущие российские металлургические и машиностроительные компании\, а также предприятия из СНГ\, Азии и некоторых стран Европы. Масштабные экспозиции развернут такие ключевые игроки рынка\, как Магнитогорский металлургический комбинат\, Трубная Металлургическая Компания\, Северсталь\, Объединенная металлургическая компания\, Новолипецкий металлургический комбинат\, Металлоинвест\, ПромСорт\, ЕВРАЗ\, Мечел\, Новосталь-М\, Промышленно-металлургический холдинг\, Уральская Сталь\, Уралтрубпром\, ТЭМПО\, Загорский трубный завод\, Ашинский МЗ\, МЗ&nbsp\;&laquo\;Электросталь&raquo\;\,&nbsp\; Алюминий Металлург Рус\, КУМЗ\, КРАМЗ\, &nbsp\;Ступинская металлургическая компания\, ММК-МЕТИЗ\, Северсталь-метиз\, ЭЗТМ\, Металлинвест\, Белорусский МЗ\, Акрон-Холдинг\, УМК-Сталь\, Южный горно-металлургический комплекс\, Русполимет\, ВСМПО-АВИСМА\, КУЗОЦМ\, Челябинский цинковый завод\, металлургический дивизион Росатома\, Красный Октябрь\, ГК&nbsp\;Метпром и многие другие. На стендах этих и целого ряда других компаний реального сектора экономики будут работать делегации из 50&mdash\;100&nbsp\;специалистов. Всего же в экспозиции будут заняты свыше 4\,5&nbsp\;тыс. стендистов.
	&nbsp\;

	&laquo\;Металл-Экспо&rsquo\;2024&raquo\; пройдет в павильонах №№ 2\, 5\, 8 и &laquo\;Форум&raquo\; ЦВК&nbsp\;&laquo\;Экспоцентр&raquo\;. Площадь &laquo\;Металл-Экспо&raquo\; в этом году превысит 50&nbsp\;тыс.&nbsp\;м2\, а общее число участников &mdash\; свыше 900 компаний\, из которых около 400&nbsp\;зарубежных компаний-участников из Китая\, Турции\, Индии\, Ирана\, Италии\, Германии и Казахстана\, презентуют современное оборудование\, технологии и комплектующие\, а также широкую гамму современной металлопродукции.
	
	В рамках деловой программы выставки пройдет целый ряд других профессиональных конкурсов\, а также состоится более 50&nbsp\;конференций\, семинаров и круглых столов по всем сегментам металлургического бизнеса. Как правило\, они готовятся профессиональными объединениями и профильными министерствами\, а потому эффективны и востребованы. Деловая программа позволит дополнительно привлечь к работе форума металлургов свыше 5&nbsp\;тыс. представителей реального сектора экономики страны. Встречи с дилерами\, клиентами и партнерами традиционно проведут Трубная Металлургическая Компания\, Группа&nbsp\;НЛМК\, ЕВРАЗ\, Северсталь\, Металлоинвест\, Новосталь-М\, УК&nbsp\;Уральская Сталь\, Северсталь-метиз и другие игроки рынка. Российский союз поставщиков металлопродукции организует совещание производителей\, поставщиков и потребителей сырья и проката цветных металлов\, а также изготовителей и переработчиков сталей с покрытиями. Минпромторг России соберет ключевых участников рынка на Координационный совет по развитию металлургического комплекса и обсудит Межотраслевую программу освоения новых видов и улучшения качества металлопродукции для автомобилестроения.
	&nbsp\;

	Для справки: Выставка &laquo\;Металл-Экспо&raquo\; является членом Всемирной Ассоциации Выставочной Индустрии (UFI) и Российского Союза выставок и ярмарок (РСВЯ)\, проходит ежегодный независимый выставочный аудит. Выставка проводится при поддержке Министерства промышленности и торговли&nbsp\;РФ\, Правительства Москвы\, РСПП\, ТПП&nbsp\;РФ\, Российского союза поставщиков металлопродукции\, Международного союза производителей металлургического оборудования (Металлургмаш)\, Ассоциации Строителей России\, Российского союза строителей\, Союза машиностроителей России\, Фонда развития трубной промышленности\, НП&nbsp\;&laquo\;Русская Сталь&raquo\;\, Ассоциации &laquo\;Промметиз&raquo\; и других союзов и объединений.&nbsp\;
DTSTART:20241029T070010Z
DTEND:20241101T150010Z
SUMMARY:30-я Международная промышленная выставка «Металл-Экспо»
URL;VALUE=URI:/events/40.html
DTSTAMP:20260421T115040Z
UID:69e73a6009f4f
END:VEVENT
END:VCALENDAR